BEGIN:VCALENDAR
VERSION:2.0
PRODID:-//Cal Fleet Advisor - ECPv6.15.20//NONSGML v1.0//EN
CALSCALE:GREGORIAN
METHOD:PUBLISH
X-ORIGINAL-URL:https://calfleetadvisor.org
X-WR-CALDESC:Events for Cal Fleet Advisor
REFRESH-INTERVAL;VALUE=DURATION:PT1H
X-Robots-Tag:noindex
X-PUBLISHED-TTL:PT1H
BEGIN:VTIMEZONE
TZID:America/Los_Angeles
BEGIN:DAYLIGHT
TZOFFSETFROM:-0800
TZOFFSETTO:-0700
TZNAME:PDT
DTSTART:20220313T100000
END:DAYLIGHT
BEGIN:STANDARD
TZOFFSETFROM:-0700
TZOFFSETTO:-0800
TZNAME:PST
DTSTART:20221106T090000
END:STANDARD
BEGIN:DAYLIGHT
TZOFFSETFROM:-0800
TZOFFSETTO:-0700
TZNAME:PDT
DTSTART:20230312T100000
END:DAYLIGHT
BEGIN:STANDARD
TZOFFSETFROM:-0700
TZOFFSETTO:-0800
TZNAME:PST
DTSTART:20231105T090000
END:STANDARD
BEGIN:DAYLIGHT
TZOFFSETFROM:-0800
TZOFFSETTO:-0700
TZNAME:PDT
DTSTART:20240310T100000
END:DAYLIGHT
BEGIN:STANDARD
TZOFFSETFROM:-0700
TZOFFSETTO:-0800
TZNAME:PST
DTSTART:20241103T090000
END:STANDARD
BEGIN:DAYLIGHT
TZOFFSETFROM:-0800
TZOFFSETTO:-0700
TZNAME:PDT
DTSTART:20250309T100000
END:DAYLIGHT
BEGIN:STANDARD
TZOFFSETFROM:-0700
TZOFFSETTO:-0800
TZNAME:PST
DTSTART:20251102T090000
END:STANDARD
END:VTIMEZONE
BEGIN:VEVENT
DTSTART;TZID=America/Los_Angeles:20240301T100000
DTEND;TZID=America/Los_Angeles:20240301T150000
DTSTAMP:20260423T111653
CREATED:20231207T015355Z
LAST-MODIFIED:20240117T221612Z
UID:10000016-1709287200-1709305200@calfleetadvisor.org
SUMMARY:Zero-Emission Ride + Drive in San Bernardino
DESCRIPTION:During this event\, we will be offering test drives of fuel cell and battery electric trucks from Volvo\, Peterbilt\, Kenworth\, Freightliner\, Nikola\, BYD & Orange EV. Drive one\, two or all of them. \n\n\n\n\nRegister for free now to schedule your test drives. Please note the event will be held off Arrowhead Ave in the parking lots.\nAs part of the transition to zero-emission vehicles\, we will also have companies on site to provide insight on financing\, insurance\, hydrogen fuel\, and electric charging infrastructure. \nThis event is supported by:\n\nHarbor Trucking Association\nCALSTART\nCalifornia HVIP\n\nIn partnership with:\n\nVolvo\nNikola\nKenworth\nFreightliner- eCascadia\nGage Zero\nForum Mobility\nTEC Equipment\nBYD\nPrologis\nVoltera\nTom’s Truck Center\nOrange EV\n\nThere is no fee and everyone is welcome. \nEnjoy complimentary food and drinks. \nTalk to Companies that Support Zero-Emission Vehicles\nLearn about the various zero emission technologies\, talk to companies offering financing\, leasing and insurance\, mobile and stationary electric charging solutions\, ZEV infrastructure parking solutions\, and more! \n\n\n\nRegister for free here
URL:https://calfleetadvisor.org/event/hta-ie-event/
LOCATION:National Orange Show Event Center\, 689 S E St\, San Bernardino\, CA\, 92408\, United States
ATTACH;FMTTYPE=image/png:https://calfleetadvisor.org/wp-content/uploads/2023/11/HTA-LOGO.png
END:VEVENT
BEGIN:VEVENT
DTSTART;TZID=America/Los_Angeles:20240229T080000
DTEND;TZID=America/Los_Angeles:20240229T170000
DTSTAMP:20260423T111653
CREATED:20240108T230136Z
LAST-MODIFIED:20240124T180845Z
UID:10000020-1709193600-1709226000@calfleetadvisor.org
SUMMARY:Trucking with Clean Fuels Conference and Zero Emission Convoy at the Port of Stockton
DESCRIPTION:The 2024 Trucking with Clean Fuels Conference and Zero Emission Convoy will be at the Port of Stockton\, CA. The Conference\, Ride n Drive\, and Convoy are designed to showcase various zero and low-emission vehicles and infrastructure solutions for fleet managers. Speakers at the Conference will come from private companies\, public agencies\, and policymakers that help shape the alternative fuel transportation industry in the San Joaquin Valley and throughout California. The Conference is designed to educate and assist fleet managers\, owner/operators\, and business owners with vehicle and infrastructure planning and decisions. \nEvent Schedule\n8am – 9am: Registration\, Breakfast and Networking \n9am – 4pm: Exhibitor Expo \n9am – 10am: Zero Emission Convoy \n10am – 4pm: Conference Sessions \n10am – 4pm: Fleet EV Ride N Drive \n12pm – 1pm: Lunch Provided. Food trucks available all day.  \n5pm – 7pm: Fleet Appreciation Reception \nSessions \n10am – 11am: Vehicle Technologies \n11am – 12pm: Infrastructure Solutions \n1pm – 2pm: Regulation Updates \n2pm – 3pm: Utility Engagement \n3pm – 4pm: Utility\, Microgrids and Off-Grid Fleet Electrification Solutions \n4pm – 5pm: – Vehicle and Infrastructure Incentives presented by CALSTART \nRegister on the website – Fleets are free: https://buff.ly/3HgNo2o
URL:https://calfleetadvisor.org/event/port-of-stockton/
LOCATION:Port of Stockton\, 315 West Fyffe Street\, Stockton\, CA\, 95203\, United States
ATTACH;FMTTYPE=image/jpeg:https://calfleetadvisor.org/wp-content/uploads/2024/01/2024TCFCandConvoy1-10-241.jpg
END:VEVENT
BEGIN:VEVENT
DTSTART;TZID=America/Los_Angeles:20231025T100000
DTEND;TZID=America/Los_Angeles:20231025T110000
DTSTAMP:20260423T111653
CREATED:20230926T000209Z
LAST-MODIFIED:20230926T000516Z
UID:10000006-1698228000-1698231600@calfleetadvisor.org
SUMMARY:Western Growers Association Virtual Webinar
DESCRIPTION:
URL:https://calfleetadvisor.org/event/western-growers-association-virtual-webinar/
LOCATION:Virtual Webinar
ATTACH;FMTTYPE=image/png:https://calfleetadvisor.org/wp-content/uploads/2023/09/Western-Growers-logo.png
END:VEVENT
BEGIN:VEVENT
DTSTART;TZID=America/Los_Angeles:20231020T080000
DTEND;TZID=America/Los_Angeles:20231020T160000
DTSTAMP:20260423T111653
CREATED:20230925T235823Z
LAST-MODIFIED:20230925T235823Z
UID:10000005-1697788800-1697817600@calfleetadvisor.org
SUMMARY:Zero-Emission Truck Showcase + Ride & Drive
DESCRIPTION:
URL:https://calfleetadvisor.org/event/zero-emission-truck-showcase-ride-drive/
LOCATION:North Island Credit Union Amphitheater\, 2050 Entertainment Cir\, Chula Vista\, CA\, 91911\, United States
ATTACH;FMTTYPE=image/png:https://calfleetadvisor.org/wp-content/uploads/2023/09/SD-Save-the-Date_Final.png
END:VEVENT
BEGIN:VEVENT
DTSTART;TZID=America/Los_Angeles:20231007T110000
DTEND;TZID=America/Los_Angeles:20231007T160000
DTSTAMP:20260423T111653
CREATED:20230925T234316Z
LAST-MODIFIED:20230925T234920Z
UID:10000002-1696676400-1696694400@calfleetadvisor.org
SUMMARY:Green Port Fair 2023
DESCRIPTION:Join us for this FREE family-friendly event! \nFind out how the Port of Long Beach is working to become the world’s first zero-emissions port. \n\nFree Harbor Tours (for first 600 attendees to sign up on day of event – no advance reservations)\nMusical Entertainment including local favorite Knyght Ryder\nLocal Dance Groups\nZero-Emissions Equipment\nBeer & Wine Garden\nVariety of Food Available\nFireboat Demonstration\nInformation Booths\nKids’ Activities including Train Rides\, Face Painting\, Temporary Tattoos\nAquarium of the Pacific Touch Tanks\nFollow the Green Treat Trail for Free Goodies and More!
URL:https://calfleetadvisor.org/event/green-port-fair-2023/
LOCATION:Harry Bridges Memorial Park\, 1126 Queens Highway\, Long Beach\, CA\, 90802\, United States
ATTACH;FMTTYPE=image/png:https://calfleetadvisor.org/wp-content/uploads/2023/09/Green-point-fair-logo.png
END:VEVENT
BEGIN:VEVENT
DTSTART;TZID=America/Los_Angeles:20230621T080000
DTEND;TZID=America/Los_Angeles:20230621T160000
DTSTAMP:20260423T111653
CREATED:20230529T134943Z
LAST-MODIFIED:20230607T133317Z
UID:10000001-1687334400-1687363200@calfleetadvisor.org
SUMMARY:Zero-Emission Truck and Off-Road Showcase + Ride and Drive
DESCRIPTION:California Air Resources Board (CARB) and CALSTART are hosting a Zero-Emission Truck and Off-Road Equipment Showcase + Ride & Drive.
URL:https://calfleetadvisor.org/event/zero-emission-truck-and-off-road-showcase-ride-and-drive/
LOCATION:Save Mart Center\, 2650 East Shaw Avenue\, Fresno\, CA\, 93710\, United States
ATTACH;FMTTYPE=image/png:https://calfleetadvisor.org/wp-content/uploads/2023/05/Fresno-Save-the-Date-2.png
END:VEVENT
END:VCALENDAR