BEGIN:VCALENDAR
VERSION:2.0
PRODID:-//Cal Fleet Advisor - ECPv6.15.20//NONSGML v1.0//EN
CALSCALE:GREGORIAN
METHOD:PUBLISH
X-ORIGINAL-URL:https://calfleetadvisor.org
X-WR-CALDESC:Events for Cal Fleet Advisor
REFRESH-INTERVAL;VALUE=DURATION:PT1H
X-Robots-Tag:noindex
X-PUBLISHED-TTL:PT1H
BEGIN:VTIMEZONE
TZID:America/Los_Angeles
BEGIN:DAYLIGHT
TZOFFSETFROM:-0800
TZOFFSETTO:-0700
TZNAME:PDT
DTSTART:20230312T100000
END:DAYLIGHT
BEGIN:STANDARD
TZOFFSETFROM:-0700
TZOFFSETTO:-0800
TZNAME:PST
DTSTART:20231105T090000
END:STANDARD
BEGIN:DAYLIGHT
TZOFFSETFROM:-0800
TZOFFSETTO:-0700
TZNAME:PDT
DTSTART:20240310T100000
END:DAYLIGHT
BEGIN:STANDARD
TZOFFSETFROM:-0700
TZOFFSETTO:-0800
TZNAME:PST
DTSTART:20241103T090000
END:STANDARD
BEGIN:DAYLIGHT
TZOFFSETFROM:-0800
TZOFFSETTO:-0700
TZNAME:PDT
DTSTART:20250309T100000
END:DAYLIGHT
BEGIN:STANDARD
TZOFFSETFROM:-0700
TZOFFSETTO:-0800
TZNAME:PST
DTSTART:20251102T090000
END:STANDARD
BEGIN:DAYLIGHT
TZOFFSETFROM:-0800
TZOFFSETTO:-0700
TZNAME:PDT
DTSTART:20260308T100000
END:DAYLIGHT
BEGIN:STANDARD
TZOFFSETFROM:-0700
TZOFFSETTO:-0800
TZNAME:PST
DTSTART:20261101T090000
END:STANDARD
END:VTIMEZONE
BEGIN:VEVENT
DTSTART;TZID=America/Los_Angeles:20250927T100000
DTEND;TZID=America/Los_Angeles:20250927T170000
DTSTAMP:20260422T181920
CREATED:20250908T185844Z
LAST-MODIFIED:20250908T185852Z
UID:10000068-1758967200-1758992400@calfleetadvisor.org
SUMMARY:Banana Festival at the Port of Hueneme
DESCRIPTION:Free Admission and Free Parking!\nFESTIVAL DATE\nSeptember 27\, 2025 \nFESTIVAL LOCATION\n\n105 E Port Hueneme Rd\,\nPort Hueneme\, CA 93041 \nEngage with the community and truckers at the Port of Hueneme! \nMore Information\n 
URL:https://calfleetadvisor.org/event/banana-festival-at-the-port-of-hueneme/
LOCATION:Port of Hueneme\, 105 E Port Hueneme Rd\,\, Port Hueneme\, CA\, 93041
ATTACH;FMTTYPE=image/jpeg:https://calfleetadvisor.org/wp-content/uploads/2024/07/449644094_812918774267244_166831176295195437_n.jpg
END:VEVENT
BEGIN:VEVENT
DTSTART;VALUE=DATE:20240928
DTEND;VALUE=DATE:20240929
DTSTAMP:20260422T181920
CREATED:20240718T183519Z
LAST-MODIFIED:20240718T183617Z
UID:10000045-1727481600-1727567999@calfleetadvisor.org
SUMMARY:Banana Festival at the Port of Hueneme
DESCRIPTION:Free Admission and Free Parking!\nFESTIVAL DATE\nSeptember 28\, 2024 \nFESTIVAL LOCATION\n\n105 E Port Hueneme Rd\,\nPort Hueneme\, CA 93041 \nEngage with the community and truckers at the Port of Hueneme! \nMore Information\n 
URL:https://calfleetadvisor.org/event/banana-port-festival/
LOCATION:Port of Hueneme\, 105 E Port Hueneme Rd\,\, Port Hueneme\, CA\, 93041
ATTACH;FMTTYPE=image/jpeg:https://calfleetadvisor.org/wp-content/uploads/2024/07/449644094_812918774267244_166831176295195437_n.jpg
END:VEVENT
END:VCALENDAR