BEGIN:VCALENDAR
VERSION:2.0
PRODID:-//Cal Fleet Advisor - ECPv6.15.20//NONSGML v1.0//EN
CALSCALE:GREGORIAN
METHOD:PUBLISH
X-WR-CALNAME:Cal Fleet Advisor
X-ORIGINAL-URL:https://calfleetadvisor.org
X-WR-CALDESC:Events for Cal Fleet Advisor
REFRESH-INTERVAL;VALUE=DURATION:PT1H
X-Robots-Tag:noindex
X-PUBLISHED-TTL:PT1H
BEGIN:VTIMEZONE
TZID:America/Los_Angeles
BEGIN:DAYLIGHT
TZOFFSETFROM:-0800
TZOFFSETTO:-0700
TZNAME:PDT
DTSTART:20230312T100000
END:DAYLIGHT
BEGIN:STANDARD
TZOFFSETFROM:-0700
TZOFFSETTO:-0800
TZNAME:PST
DTSTART:20231105T090000
END:STANDARD
BEGIN:DAYLIGHT
TZOFFSETFROM:-0800
TZOFFSETTO:-0700
TZNAME:PDT
DTSTART:20240310T100000
END:DAYLIGHT
BEGIN:STANDARD
TZOFFSETFROM:-0700
TZOFFSETTO:-0800
TZNAME:PST
DTSTART:20241103T090000
END:STANDARD
BEGIN:DAYLIGHT
TZOFFSETFROM:-0800
TZOFFSETTO:-0700
TZNAME:PDT
DTSTART:20250309T100000
END:DAYLIGHT
BEGIN:STANDARD
TZOFFSETFROM:-0700
TZOFFSETTO:-0800
TZNAME:PST
DTSTART:20251102T090000
END:STANDARD
BEGIN:DAYLIGHT
TZOFFSETFROM:-0800
TZOFFSETTO:-0700
TZNAME:PDT
DTSTART:20260308T100000
END:DAYLIGHT
BEGIN:STANDARD
TZOFFSETFROM:-0700
TZOFFSETTO:-0800
TZNAME:PST
DTSTART:20261101T090000
END:STANDARD
END:VTIMEZONE
BEGIN:VEVENT
DTSTART;TZID=America/Los_Angeles:20250313T090000
DTEND;TZID=America/Los_Angeles:20250313T130000
DTSTAMP:20260423T050525
CREATED:20250225T175516Z
LAST-MODIFIED:20250225T175516Z
UID:10000054-1741856400-1741870800@calfleetadvisor.org
SUMMARY:2025 Trucking With Clean Fuels Conference in Tulare\, CA
DESCRIPTION:2025 Trucking With Clean Fuels Conference in Tulare\, CA\n\n\nFleet Operators and Managers – FREE Registration HERE\n​March 13\, 2025 | International Agri-Center\, Tulare\, CA | 9:00 AM – 1:00 PM \n​The 2025 Trucking with Clean Fuels Conference is taking place at the International Agri-Center in Tulare\, California\, this event will unite Central Valley fleet operators\, industry leaders\, and decision makers to explore groundbreaking advancements in clean fuel technologies for commercial vehicles. \n​The conference will provide a hands-on experience with cutting-edge electric\, hydrogen\, and renewable natural gas-powered vehicles\, as well as resources to navigate the evolving transportation industry. \n​Event Highlights \n\n​Ride & Drive Experience! Test-drive over 30 commercial vehicles powered by clean fuels such as EV\, hydrogen\, RNG\, CNG\, and renewable biodiesel.\n​Engage with 30+ exhibitors showcasing the latest in vehicle technology\, fueling infrastructure\, and fleet management solutions.\n​Learn from industry experts about funding opportunities\, regulatory updates\, and workforce development initiatives.\n​Access free fleet advisory services and discover innovative infrastructure solutions to enhance fleet operations.\n​Cyclum Tulare Site Dedication Ceremony! At 2:00 PM\, celebrate the unveiling of Cyclum’s newest alternative fuel travel center at Mefford Airfield\, part of a bold plan to build 400 locations blending traditional fuels with zero-carbon solutions like hydrogen\, renewable CNG\, and EV charging.\n\n​”This dedication ceremony is a testament to Cyclum’s commitment to innovation and sustainability in the travel center industry. Tulare is just the beginning as we pave the way for a greener and more efficient future for fleets and travelers alike.” Brian Profitt\, CEO\, Cyclum \n  \nRegister HERE
URL:https://calfleetadvisor.org/event/2025-trucking-with-clean-fuels-conference-in-tulare-ca/
LOCATION:International Agri-Center\, 4500 S Laspina St\,\, Tulare\, CA\, 93274\, United States
ATTACH;FMTTYPE=image/jpeg:https://calfleetadvisor.org/wp-content/uploads/2025/02/1740449208856.jpg
END:VEVENT
BEGIN:VEVENT
DTSTART;TZID=America/Los_Angeles:20250122T090000
DTEND;TZID=America/Los_Angeles:20250122T150000
DTSTAMP:20260423T050525
CREATED:20241220T170839Z
LAST-MODIFIED:20241220T170956Z
UID:10000051-1737536400-1737558000@calfleetadvisor.org
SUMMARY:2025 Port of San Francisco Clean Fleet Experience in San Francisco
DESCRIPTION:2025 Port of San Francisco Clean Fleet Experience\nRegister Now\n​Experience the Future of Commercial Transportation: Industry Leaders and Solution Providers to Showcase Cutting-Edge Technologies at the 2025 Port of San Francisco Clean Fleet Experience on January\, 22nd\, 2024 from 9am to 3pm at Pier 96. \n​Public and private fleet operators will have access to the latest lineup of electric and hydrogen trucks\, infrastructure solutions and services to assist with being competitive. \n​Key Event Highlights: \n\n​Ride N Drive over 30 alternative fuel vehicles\, including Electric\, Hydrogen and RNG.\n​Network with industry\, decision and policy makers to discuss strategies at the first major event of the year.\n​Engage with industry-leading experts to gain valuable insights into the benefits of electric and hydrogen trucking. Hear from fleet operators who have successfully deployed alternative fuel vehicles.\n​Electric and Marine alternative fuel solutions.\n​How to navigate the new funding opportunities and regulatory changes.\n​Autonomous solution providers on hand to discuss pilot projects and market ready deployments.\n\n​Exhibitor and Sponsorship Opportunities available. \n​​Email info@zevtour.com \n​​Call 855-ZEV-TOUR (855-938-8687)
URL:https://calfleetadvisor.org/event/clean-fleet-experience/
LOCATION:Pier 96\, 1000 Amador St\,\, San Francisco\, CA\, 94124
ATTACH;FMTTYPE=image/webp:https://calfleetadvisor.org/wp-content/uploads/2024/12/f35b3c7e-4637-4314-bf07-48c56cc75bc6.webp
END:VEVENT
BEGIN:VEVENT
DTSTART;TZID=America/Los_Angeles:20241024T090000
DTEND;TZID=America/Los_Angeles:20241024T130000
DTSTAMP:20260423T050525
CREATED:20240802T234454Z
LAST-MODIFIED:20241015T170534Z
UID:10000048-1729760400-1729774800@calfleetadvisor.org
SUMMARY:ZEV Tour at Western Truck Center in Lodi\, CA
DESCRIPTION:2024 ZEV Tour at Western Truck Center in Lodi\, CA.\nThis is event is designed to assist fleets of all sizes\, public and private in their transition to alternative fuel vehicles. Agencies and professionals will be on hand to guide you with vehicle and infrastructure incentives\, energy and regulations. \nGet more info here\nRegister HERE\nIf you have questions or comments\, please contact us at info@zevtour.com
URL:https://calfleetadvisor.org/event/zev-tour-at-lodi/
LOCATION:Western Truck Center Stockton\, 11793 Micke Grove Rd\, Lodi\, CA\, 95240\, United States
ATTACH;FMTTYPE=image/jpeg:https://calfleetadvisor.org/wp-content/uploads/2024/08/wtc-stockton-scaled.jpg
END:VEVENT
BEGIN:VEVENT
DTSTART;TZID=America/Los_Angeles:20241009T090000
DTEND;TZID=America/Los_Angeles:20241009T160000
DTSTAMP:20260423T050525
CREATED:20240802T234848Z
LAST-MODIFIED:20240917T175607Z
UID:10000049-1728464400-1728489600@calfleetadvisor.org
SUMMARY:ZEV Tour at CA Mobility Center in Sacramento\, CA
DESCRIPTION:2024 ZEV Tour at the California Mobility Center in Sacramento.\nThis is event is designed to assist fleets of all sizes\, public and private in their transition to alternative fuel vehicles. Agencies and professionals will be on hand to guide you with vehicle and infrastructure incentives\, energy and regulations. \nPre-register HERE!\nIf you have questions or comments\, please contact us at info@zevtour.com
URL:https://calfleetadvisor.org/event/zev-tour-at-sacramento/
LOCATION:California Mobility Center\, 8351 Luzon Ave\, Sacramento\, 95828\, United States
ATTACH;FMTTYPE=image/jpeg:https://calfleetadvisor.org/wp-content/uploads/2024/08/CMC-ZEV-TOUR-Flyer-v9-7-24-1.jpg
END:VEVENT
BEGIN:VEVENT
DTSTART;TZID=America/Los_Angeles:20240827T090000
DTEND;TZID=America/Los_Angeles:20240827T130000
DTSTAMP:20260423T050525
CREATED:20240802T234048Z
LAST-MODIFIED:20240812T170717Z
UID:10000047-1724749200-1724763600@calfleetadvisor.org
SUMMARY:ZEV Tour at Western Truck Center in West Sacramento\, CA
DESCRIPTION:Fleet Operators and Managers are welcome to a Lunch and Learn at Western Truck Center in West Sacramento\, Ca for a half-day event (9am to 1pm) on August 27th\, 2024. \nThis event is for Public and Private fleet operators of all sizes to assist with the transition to alternative fuel vehicles. \nWho should attend?\n\nFleets considering making a switch to electric\, hydrogen or RNG.\nFleets who need assistance with infrastructure planning.\nDecision makers who want to understand all the available incentives and grants to make the switch to alternative fuel vehicles.\nFleets who have no intention of switching but want to keep up with tech.\nTruck Fleets class 3-8.\nFleet Managers\, CEOs\, CFOs\n\nCARB\, CALSTART\, PG&E\, and the Air District will be on hand to guide fleets with Vehicle and Infrastructure Incentives\, Energy\, and Regulations. \nFleets can have their ACF Regulation questions answered. \nRegistration includes Lunch and Swag.\nRegister HERE!\nIf you have questions or comments\, please contact us at info@zevtour.com
URL:https://calfleetadvisor.org/event/zev-tour-west-sac/
LOCATION:Western Truck Center\, 1925 Enterprise Blvd\, West Sacramentro\, 95691\, United States
ATTACH;FMTTYPE=image/jpeg:https://calfleetadvisor.org/wp-content/uploads/2024/08/Western-Truck-Center-Event-_02f-1-scaled.jpg
END:VEVENT
BEGIN:VEVENT
DTSTART;TZID=America/Los_Angeles:20240806T090000
DTEND;TZID=America/Los_Angeles:20240806T130000
DTSTAMP:20260423T050525
CREATED:20240802T233651Z
LAST-MODIFIED:20240802T233703Z
UID:10000046-1722934800-1722949200@calfleetadvisor.org
SUMMARY:Lunch and Learn at Golden State Peterbilt in Fresno\, CA
DESCRIPTION:Lunch and Learn at Golden State Peterbilt in Fresno\, CA\nFleet Operators and Managers are welcome to join Golden State Peterbilt in Fresno\, CA for a Lunch and Learn from 9am to 1pm on August 6th\, 2024. \nThis event is for Public and Private fleet operators of all sizes to assist with the transition to alternative fuel vehicles. \nWho should attend? \n\nFleets considering making a switch to electric\, hydrogen or RNG.\nFleets who need assistance with the infrastructure planning.\nDecision makers who want to understand all the available incentives and grants to make the switch to alternative fuel vehicles.\nFleets who have no intention of switching but want to keep up with tech.\nTruck Fleets class 3-8.\nFleet Managers\, CEOs\, CFOs.\n\nCARB\, CALSTART\, PG&E\, and the Air District will be on hand to guide fleets with Vehicle and Infrastructure Incentives\, Energy\, and Regulations. \nFleets can have their ACF Regulation questions answered. \nFree registration includes Lunch and Swag!\nRegister HERE!\nIf you have questions or comments\, please contact us at info@zevtour.com
URL:https://calfleetadvisor.org/event/zev-tour-fresno/
LOCATION:Golden State Peterbilt\, 4390 S Bagley Ave\,\, Fresno\, CA\, 93725\, United States
ATTACH;FMTTYPE=image/jpeg:https://calfleetadvisor.org/wp-content/uploads/2024/08/ZEV-Tour-Fresno-Peterbilt-v7-26-24.jpg
END:VEVENT
END:VCALENDAR