BEGIN:VCALENDAR
VERSION:2.0
PRODID:-//Cal Fleet Advisor - ECPv6.15.20//NONSGML v1.0//EN
CALSCALE:GREGORIAN
METHOD:PUBLISH
X-ORIGINAL-URL:https://calfleetadvisor.org
X-WR-CALDESC:Events for Cal Fleet Advisor
REFRESH-INTERVAL;VALUE=DURATION:PT1H
X-Robots-Tag:noindex
X-PUBLISHED-TTL:PT1H
BEGIN:VTIMEZONE
TZID:America/Los_Angeles
BEGIN:DAYLIGHT
TZOFFSETFROM:-0800
TZOFFSETTO:-0700
TZNAME:PDT
DTSTART:20240310T100000
END:DAYLIGHT
BEGIN:STANDARD
TZOFFSETFROM:-0700
TZOFFSETTO:-0800
TZNAME:PST
DTSTART:20241103T090000
END:STANDARD
BEGIN:DAYLIGHT
TZOFFSETFROM:-0800
TZOFFSETTO:-0700
TZNAME:PDT
DTSTART:20250309T100000
END:DAYLIGHT
BEGIN:STANDARD
TZOFFSETFROM:-0700
TZOFFSETTO:-0800
TZNAME:PST
DTSTART:20251102T090000
END:STANDARD
BEGIN:DAYLIGHT
TZOFFSETFROM:-0800
TZOFFSETTO:-0700
TZNAME:PDT
DTSTART:20260308T100000
END:DAYLIGHT
BEGIN:STANDARD
TZOFFSETFROM:-0700
TZOFFSETTO:-0800
TZNAME:PST
DTSTART:20261101T090000
END:STANDARD
END:VTIMEZONE
BEGIN:VEVENT
DTSTART;VALUE=DATE:20250919
DTEND;VALUE=DATE:20250920
DTSTAMP:20260422T194629
CREATED:20250722T142057Z
LAST-MODIFIED:20250806T164824Z
UID:10000061-1758240000-1758326399@calfleetadvisor.org
SUMMARY:Zero Emissions Ride & Drive at the Port of Oakland\, CA
DESCRIPTION:Date:\nFriday\, September 19th\, 2025\n10AM to 3PM \nLunch provided \nLocation:\nMiddle Harbor Shoreline Park \nDuring this event\, we will be offering test drives of a variety fuel cell and battery electric trucks. \nDrive one\, two or all of them. \nAs part of the transition to zero-emission vehicles\, talk to experts on finance\, insurance\, hydrogen fuel\, electric charging infrastructure\, and more. \n\n\n\n\n\nGet Tickets HERE\nFor any inquiries\, please contact Melissa Summers at melissa@harbortruckers.org 
URL:https://calfleetadvisor.org/event/ride-drive-port-of-oakland/
LOCATION:Middle Harbor Shoreline Park
END:VEVENT
END:VCALENDAR