BEGIN:VCALENDAR
VERSION:2.0
PRODID:-//Cal Fleet Advisor - ECPv6.15.20//NONSGML v1.0//EN
CALSCALE:GREGORIAN
METHOD:PUBLISH
X-ORIGINAL-URL:https://calfleetadvisor.org
X-WR-CALDESC:Events for Cal Fleet Advisor
REFRESH-INTERVAL;VALUE=DURATION:PT1H
X-Robots-Tag:noindex
X-PUBLISHED-TTL:PT1H
BEGIN:VTIMEZONE
TZID:America/Los_Angeles
BEGIN:DAYLIGHT
TZOFFSETFROM:-0800
TZOFFSETTO:-0700
TZNAME:PDT
DTSTART:20250309T100000
END:DAYLIGHT
BEGIN:STANDARD
TZOFFSETFROM:-0700
TZOFFSETTO:-0800
TZNAME:PST
DTSTART:20251102T090000
END:STANDARD
BEGIN:DAYLIGHT
TZOFFSETFROM:-0800
TZOFFSETTO:-0700
TZNAME:PDT
DTSTART:20260308T100000
END:DAYLIGHT
BEGIN:STANDARD
TZOFFSETFROM:-0700
TZOFFSETTO:-0800
TZNAME:PST
DTSTART:20261101T090000
END:STANDARD
BEGIN:DAYLIGHT
TZOFFSETFROM:-0800
TZOFFSETTO:-0700
TZNAME:PDT
DTSTART:20270314T100000
END:DAYLIGHT
BEGIN:STANDARD
TZOFFSETFROM:-0700
TZOFFSETTO:-0800
TZNAME:PST
DTSTART:20271107T090000
END:STANDARD
END:VTIMEZONE
BEGIN:VEVENT
DTSTART;TZID=America/Los_Angeles:20260417T090000
DTEND;TZID=America/Los_Angeles:20260417T140000
DTSTAMP:20260422T153047
CREATED:20260319T151006Z
LAST-MODIFIED:20260319T151006Z
UID:10000078-1776416400-1776434400@calfleetadvisor.org
SUMMARY:Porterville United School District Electric School Bus Summit
DESCRIPTION:Join Cal Fleet Advisor at the Porterville United School District (PUSD) Electric School Bus Summit! PUSD welcomes school districts and industry stakeholders to learn more about their fleet electrification and microgrid project. Project partners including Forefront Power\, The Mobility House\, CALSTART\, Southern California Edison and bus partners will showcase their technologies and share available resources for school districts. Local stakeholders will also share clean transportation planning updates in Porterville and Tulare County. \nWe invite you to stop by our table to meet our advisors\, ask questions\, and access helpful resources to support zero-emission school bus adoption.
URL:https://calfleetadvisor.org/event/porterville-united-school-district-electric-school-bus-summit/
LOCATION:Porterville USD ESB Summit\, 167 West Poplar Avenue\, Porterville\, CA\, 93257
END:VEVENT
END:VCALENDAR