BEGIN:VCALENDAR
VERSION:2.0
PRODID:-//Cal Fleet Advisor - ECPv6.15.20//NONSGML v1.0//EN
CALSCALE:GREGORIAN
METHOD:PUBLISH
X-WR-CALNAME:Cal Fleet Advisor
X-ORIGINAL-URL:https://calfleetadvisor.org
X-WR-CALDESC:Events for Cal Fleet Advisor
REFRESH-INTERVAL;VALUE=DURATION:PT1H
X-Robots-Tag:noindex
X-PUBLISHED-TTL:PT1H
BEGIN:VTIMEZONE
TZID:America/Los_Angeles
BEGIN:DAYLIGHT
TZOFFSETFROM:-0800
TZOFFSETTO:-0700
TZNAME:PDT
DTSTART:20230312T100000
END:DAYLIGHT
BEGIN:STANDARD
TZOFFSETFROM:-0700
TZOFFSETTO:-0800
TZNAME:PST
DTSTART:20231105T090000
END:STANDARD
BEGIN:DAYLIGHT
TZOFFSETFROM:-0800
TZOFFSETTO:-0700
TZNAME:PDT
DTSTART:20240310T100000
END:DAYLIGHT
BEGIN:STANDARD
TZOFFSETFROM:-0700
TZOFFSETTO:-0800
TZNAME:PST
DTSTART:20241103T090000
END:STANDARD
BEGIN:DAYLIGHT
TZOFFSETFROM:-0800
TZOFFSETTO:-0700
TZNAME:PDT
DTSTART:20250309T100000
END:DAYLIGHT
BEGIN:STANDARD
TZOFFSETFROM:-0700
TZOFFSETTO:-0800
TZNAME:PST
DTSTART:20251102T090000
END:STANDARD
END:VTIMEZONE
BEGIN:VEVENT
DTSTART;VALUE=DATE:20241106
DTEND;VALUE=DATE:20241109
DTSTAMP:20260423T003005
CREATED:20240112T193658Z
LAST-MODIFIED:20240624T165817Z
UID:10000019-1730851200-1731110399@calfleetadvisor.org
SUMMARY:Fleet Forward & Fleet Safety Conference in San Diego
DESCRIPTION:Fleet Forward & Fleet Safety Conferences Nov. 6-8\, 2024 | San Diego\, CA\n\n\nDelivering Cutting-Edge Fleet Solutions\nOne Registration – Two Full Conferences\nFleet Forward Conference is designed to deliver fleets solutions on electrification\, charging infrastructure\, connected vehicles\, ADAS & autonomous technology\, last-mile mobility\, IoT & AI\, shared mobility\, Fleet Management as a Service\, next-generation telematics\, and more. \nFleet Safety Conference brings rich education from experts in fleet safety\, with content focused on reducing driver distraction\, safety technologies\, driver risk profiling\, safety training\, limiting fleet liability\, tools to enhance your overall safety\, and more! \n\n\n\n\n***Check back often as the event details will change including the addition of more exhibitors\, sponsor announcements and speaker line-up.***
URL:https://calfleetadvisor.org/event/fleet-forward-fleet-safety-conference/
LOCATION:TBA
ATTACH;FMTTYPE=image/webp:https://calfleetadvisor.org/wp-content/uploads/2024/01/fleet-forward.webp
ORGANIZER;CN="Fleet Forward":MAILTO:BobitEventRegistration@bobit.com
END:VEVENT
BEGIN:VEVENT
DTSTART;VALUE=DATE:20240920
DTEND;VALUE=DATE:20240921
DTSTAMP:20260423T003005
CREATED:20231114T202214Z
LAST-MODIFIED:20240808T170249Z
UID:10000014-1726790400-1726876799@calfleetadvisor.org
SUMMARY:Ride + Drive - Trucker Appreciation Day at the Port of Oakland
DESCRIPTION:This event is proudly supported by CALSTART (HVIP) \, GNA and HTA. \nDate: Friday\, September 20th\, 2024\nTime: 10AM to 3PM PST\nLocation: Port of Oakland\nLunch provided \nDuring this event\, we will be offering test drives of fuel cell and battery electric trucks from Kenworth\, Nikola\, Volvo\, Hyzon\, and more! \nDrive one\, two\, or all of them. \nAs part of the transition to zero-emission vehicles\, talk to experts on finance\, insurance\, hydrogen fuel\, electric charging infrastructure\, and more. \nRegister for FREE Here
URL:https://calfleetadvisor.org/event/trucker-appreciation-day/
LOCATION:TBA
ATTACH;FMTTYPE=image/png:https://calfleetadvisor.org/wp-content/uploads/2023/11/HTA-LOGO.png
END:VEVENT
END:VCALENDAR